Package: HIBAG Version: 1.28.0 Command: C:\cygwin\bin\curl.exe -O http://155.52.207.165/BBS/3.13/bioc/src/contrib/HIBAG_1.28.0.tar.gz && rm -rf HIBAG.buildbin-libdir && mkdir HIBAG.buildbin-libdir && C:\Users\biocbuild\bbs-3.13-bioc\R\bin\R.exe CMD INSTALL --merge-multiarch --build --library=HIBAG.buildbin-libdir HIBAG_1.28.0.tar.gz && C:\Users\biocbuild\bbs-3.13-bioc\R\bin\R.exe CMD INSTALL HIBAG_1.28.0.zip && rm HIBAG_1.28.0.tar.gz HIBAG_1.28.0.zip StartedAt: 2021-10-14 06:55:57 -0400 (Thu, 14 Oct 2021) EndedAt: 2021-10-14 06:58:12 -0400 (Thu, 14 Oct 2021) EllapsedTime: 135.0 seconds RetCode: 0 Status: OK