Package: HGC Version: 1.0.3 Command: rm -rf HGC.buildbin-libdir && mkdir HGC.buildbin-libdir && C:\Users\biocbuild\bbs-3.13-bioc\R\bin\R.exe CMD INSTALL --merge-multiarch --build --library=HGC.buildbin-libdir HGC_1.0.3.tar.gz StartedAt: 2021-10-15 09:47:09 -0400 (Fri, 15 Oct 2021) EndedAt: 2021-10-15 09:48:41 -0400 (Fri, 15 Oct 2021) EllapsedTime: 92.1 seconds RetCode: 0 Status: OK PackageFile: HGC_1.0.3.zip PackageFileSize: 1.163 MiB