Package: HGC Version: 1.0.3 Command: /home/biocbuild/bbs-3.13-bioc/R/bin/R CMD INSTALL HGC StartedAt: 2021-10-14 06:10:10 -0400 (Thu, 14 Oct 2021) EndedAt: 2021-10-14 06:10:50 -0400 (Thu, 14 Oct 2021) EllapsedTime: 39.3 seconds RetCode: 0 Status: OK