Package: HGC Version: 1.0.3 Command: /home/biocbuild/bbs-3.13-bioc/R/bin/R CMD check --install=check:HGC.install-out.txt --library=/home/biocbuild/bbs-3.13-bioc/R/library --no-vignettes --timings HGC_1.0.3.tar.gz StartedAt: 2021-10-14 10:09:47 -0400 (Thu, 14 Oct 2021) EndedAt: 2021-10-14 10:12:47 -0400 (Thu, 14 Oct 2021) EllapsedTime: 179.8 seconds RetCode: 0 Status: WARNINGS CheckDir: HGC.Rcheck Warnings: 1