Package: HGC Version: 1.0.3 Command: /home/biocbuild/bbs-3.13-bioc/R/bin/R CMD build --keep-empty-dirs --no-resave-data HGC StartedAt: 2021-10-14 07:27:53 -0400 (Thu, 14 Oct 2021) EndedAt: 2021-10-14 07:28:51 -0400 (Thu, 14 Oct 2021) EllapsedTime: 58.3 seconds RetCode: 0 Status: OK PackageFile: HGC_1.0.3.tar.gz PackageFileSize: 515.1 KiB