git_url: https://git.bioconductor.org/packages/HELP git_branch: RELEASE_3_13 git_last_commit: 57092fb git_last_commit_date: 2021-05-19 11:41:06 -0400 (Wed, 19 May 2021) Package: HELP Version: 1.50.0 Maintainer: Reid F. Thompson MaintainerEmail: reid.thompson at gmail.com