Package: HDF5Array Version: 1.20.0 Command: /Library/Frameworks/R.framework/Versions/Current/Resources/bin/R CMD build --keep-empty-dirs --no-resave-data HDF5Array StartedAt: 2021-10-14 12:34:06 -0400 (Thu, 14 Oct 2021) EndedAt: 2021-10-14 12:34:13 -0400 (Thu, 14 Oct 2021) EllapsedTime: 7.7 seconds RetCode: 0 Status: OK PackageFile: HDF5Array_1.20.0.tar.gz PackageFileSize: 7.722 MiB