Package: HCAExplorer Version: 1.6.0 Command: /Library/Frameworks/R.framework/Versions/Current/Resources/bin/R CMD build --keep-empty-dirs --no-resave-data HCAExplorer StartedAt: 2021-10-14 12:33:33 -0400 (Thu, 14 Oct 2021) EndedAt: 2021-10-14 12:34:34 -0400 (Thu, 14 Oct 2021) EllapsedTime: 60.9 seconds RetCode: 1 Status: ERROR PackageFile: None PackageFileSize: NA