Package: Gviz Version: 1.36.2 Command: C:\cygwin\bin\curl.exe -O http://155.52.207.165/BBS/3.13/bioc/src/contrib/Gviz_1.36.2.tar.gz && rm -rf Gviz.buildbin-libdir && mkdir Gviz.buildbin-libdir && C:\Users\biocbuild\bbs-3.13-bioc\R\bin\R.exe CMD INSTALL --merge-multiarch --build --library=Gviz.buildbin-libdir Gviz_1.36.2.tar.gz && C:\Users\biocbuild\bbs-3.13-bioc\R\bin\R.exe CMD INSTALL Gviz_1.36.2.zip && rm Gviz_1.36.2.tar.gz Gviz_1.36.2.zip StartedAt: 2021-10-14 10:50:54 -0400 (Thu, 14 Oct 2021) EndedAt: 2021-10-14 10:52:58 -0400 (Thu, 14 Oct 2021) EllapsedTime: 123.3 seconds RetCode: 0 Status: OK