Package: Gviz Version: 1.36.2 Command: chmod a+r Gviz -R && C:\Users\biocbuild\bbs-3.13-bioc\R\bin\R.exe CMD build --keep-empty-dirs --no-resave-data Gviz StartedAt: 2021-10-14 14:45:14 -0400 (Thu, 14 Oct 2021) EndedAt: 2021-10-14 14:51:23 -0400 (Thu, 14 Oct 2021) EllapsedTime: 368.9 seconds RetCode: 0 Status: OK PackageFile: Gviz_1.36.2.tar.gz PackageFileSize: 5.984 MiB