Package: GreyListChIP Version: 1.24.0 Command: C:\Users\biocbuild\bbs-3.13-bioc\R\bin\R.exe CMD check --force-multiarch --install=check:GreyListChIP.install-out.txt --library=C:\Users\biocbuild\bbs-3.13-bioc\R\library --no-vignettes --timings GreyListChIP_1.24.0.tar.gz StartedAt: 2021-10-15 00:05:36 -0400 (Fri, 15 Oct 2021) EndedAt: 2021-10-15 00:10:26 -0400 (Fri, 15 Oct 2021) EllapsedTime: 290.0 seconds RetCode: 0 Status: OK CheckDir: GreyListChIP.Rcheck Warnings: 0