Package: GreyListChIP Version: 1.24.0 Command: rm -rf GreyListChIP.buildbin-libdir && mkdir GreyListChIP.buildbin-libdir && C:\Users\biocbuild\bbs-3.13-bioc\R\bin\R.exe CMD INSTALL --merge-multiarch --build --library=GreyListChIP.buildbin-libdir GreyListChIP_1.24.0.tar.gz StartedAt: 2021-10-15 09:41:46 -0400 (Fri, 15 Oct 2021) EndedAt: 2021-10-15 09:42:59 -0400 (Fri, 15 Oct 2021) EllapsedTime: 73.4 seconds RetCode: 0 Status: OK PackageFile: GreyListChIP_1.24.0.zip PackageFileSize: 898.3 KiB