Package: GreyListChIP Version: 1.24.0 Command: /Library/Frameworks/R.framework/Versions/Current/Resources/bin/R CMD check --install=check:GreyListChIP.install-out.txt --library=/Library/Frameworks/R.framework/Versions/Current/Resources/library --no-vignettes --timings GreyListChIP_1.24.0.tar.gz StartedAt: 2021-10-14 19:46:48 -0400 (Thu, 14 Oct 2021) EndedAt: 2021-10-14 19:51:59 -0400 (Thu, 14 Oct 2021) EllapsedTime: 311.6 seconds RetCode: 0 Status: OK CheckDir: GreyListChIP.Rcheck Warnings: 0