git_url: https://git.bioconductor.org/packages/GreyListChIP git_branch: RELEASE_3_13 git_last_commit: 2a86668 git_last_commit_date: 2021-05-19 12:10:56 -0400 (Wed, 19 May 2021) Package: GreyListChIP Version: 1.24.0 Maintainer: Gordon Brown MaintainerEmail: gordon.brown at cruk.cam.ac.uk