Package: GlobalAncova Version: 4.10.0 Command: /home/biocbuild/bbs-3.13-bioc/R/bin/R CMD build --keep-empty-dirs --no-resave-data GlobalAncova StartedAt: 2021-10-14 07:22:25 -0400 (Thu, 14 Oct 2021) EndedAt: 2021-10-14 07:28:08 -0400 (Thu, 14 Oct 2021) EllapsedTime: 343.0 seconds RetCode: 0 Status: OK PackageFile: GlobalAncova_4.10.0.tar.gz PackageFileSize: 1.013 MiB