Package: GlobalAncova Version: 4.10.0 Command: rm -rf GlobalAncova.buildbin-libdir && mkdir GlobalAncova.buildbin-libdir && /Users/biocbuild/BBS/utils/build-universal.sh GlobalAncova_4.10.0.tar.gz /Library/Frameworks/R.framework/Versions/Current/Resources/bin/R GlobalAncova.buildbin-libdir StartedAt: 2021-10-15 02:36:19 -0400 (Fri, 15 Oct 2021) EndedAt: 2021-10-15 02:37:24 -0400 (Fri, 15 Oct 2021) EllapsedTime: 64.9 seconds RetCode: 0 Status: OK PackageFile: GlobalAncova_4.10.0.tgz PackageFileSize: 1.441 MiB