Package: Glimma Version: 2.2.0 Command: /Library/Frameworks/R.framework/Versions/Current/Resources/bin/R CMD INSTALL Glimma StartedAt: 2021-10-14 09:27:42 -0400 (Thu, 14 Oct 2021) EndedAt: 2021-10-14 09:28:35 -0400 (Thu, 14 Oct 2021) EllapsedTime: 52.7 seconds RetCode: 0 Status: OK