Package: Glimma Version: 2.2.0 Command: /Library/Frameworks/R.framework/Versions/Current/Resources/bin/R CMD build --keep-empty-dirs --no-resave-data Glimma StartedAt: 2021-10-14 12:19:41 -0400 (Thu, 14 Oct 2021) EndedAt: 2021-10-14 12:21:19 -0400 (Thu, 14 Oct 2021) EllapsedTime: 97.6 seconds RetCode: 0 Status: OK PackageFile: Glimma_2.2.0.tar.gz PackageFileSize: 8.69 MiB