Package: Glimma Version: 2.2.0 Command: rm -rf Glimma.buildbin-libdir && mkdir Glimma.buildbin-libdir && /Users/biocbuild/BBS/utils/build-universal.sh Glimma_2.2.0.tar.gz /Library/Frameworks/R.framework/Versions/Current/Resources/bin/R Glimma.buildbin-libdir StartedAt: 2021-10-15 02:36:04 -0400 (Fri, 15 Oct 2021) EndedAt: 2021-10-15 02:37:13 -0400 (Fri, 15 Oct 2021) EllapsedTime: 69.2 seconds RetCode: 0 Status: OK PackageFile: Glimma_2.2.0.tgz PackageFileSize: 7.127 MiB