git_url: https://git.bioconductor.org/packages/GenomicTuples git_branch: RELEASE_3_13 git_last_commit: c82b526 git_last_commit_date: 2021-05-19 12:08:40 -0400 (Wed, 19 May 2021) Package: GenomicTuples Version: 1.26.0 Maintainer: Peter Hickey MaintainerEmail: peter.hickey at gmail.com