Package: GenomicSuperSignature Version: 1.0.1 Command: C:\cygwin\bin\curl.exe -O http://155.52.207.165/BBS/3.13/bioc/src/contrib/GenomicSuperSignature_1.0.1.tar.gz && rm -rf GenomicSuperSignature.buildbin-libdir && mkdir GenomicSuperSignature.buildbin-libdir && C:\Users\biocbuild\bbs-3.13-bioc\R\bin\R.exe CMD INSTALL --merge-multiarch --build --library=GenomicSuperSignature.buildbin-libdir GenomicSuperSignature_1.0.1.tar.gz && C:\Users\biocbuild\bbs-3.13-bioc\R\bin\R.exe CMD INSTALL GenomicSuperSignature_1.0.1.zip && rm GenomicSuperSignature_1.0.1.tar.gz GenomicSuperSignature_1.0.1.zip StartedAt: 2021-10-14 11:04:59 -0400 (Thu, 14 Oct 2021) EndedAt: 2021-10-14 11:08:16 -0400 (Thu, 14 Oct 2021) EllapsedTime: 197.7 seconds RetCode: 0 Status: OK