Package: GenomicSuperSignature Version: 1.0.1 Command: /home/biocbuild/bbs-3.13-bioc/R/bin/R CMD build --keep-empty-dirs --no-resave-data GenomicSuperSignature StartedAt: 2021-10-14 07:20:42 -0400 (Thu, 14 Oct 2021) EndedAt: 2021-10-14 07:22:45 -0400 (Thu, 14 Oct 2021) EllapsedTime: 122.8 seconds RetCode: 0 Status: OK PackageFile: GenomicSuperSignature_1.0.1.tar.gz PackageFileSize: 6.255 MiB