Package: GenomicSuperSignature Version: 1.0.1 Command: /Library/Frameworks/R.framework/Versions/Current/Resources/bin/R CMD build --keep-empty-dirs --no-resave-data GenomicSuperSignature StartedAt: 2021-10-14 12:16:44 -0400 (Thu, 14 Oct 2021) EndedAt: 2021-10-14 12:18:39 -0400 (Thu, 14 Oct 2021) EllapsedTime: 114.9 seconds RetCode: 0 Status: OK PackageFile: GenomicSuperSignature_1.0.1.tar.gz PackageFileSize: 6.242 MiB