Package: GenomicSuperSignature Version: 1.0.1 Command: rm -rf GenomicSuperSignature.buildbin-libdir && mkdir GenomicSuperSignature.buildbin-libdir && /Users/biocbuild/BBS/utils/build-universal.sh GenomicSuperSignature_1.0.1.tar.gz /Library/Frameworks/R.framework/Versions/Current/Resources/bin/R GenomicSuperSignature.buildbin-libdir StartedAt: 2021-10-15 02:33:55 -0400 (Fri, 15 Oct 2021) EndedAt: 2021-10-15 02:34:59 -0400 (Fri, 15 Oct 2021) EllapsedTime: 63.3 seconds RetCode: 0 Status: OK PackageFile: GenomicSuperSignature_1.0.1.tgz PackageFileSize: 6.702 MiB