Package: GenomicInteractions Version: 1.26.0 Command: /Library/Frameworks/R.framework/Versions/Current/Resources/bin/R CMD INSTALL GenomicInteractions StartedAt: 2021-10-14 10:12:35 -0400 (Thu, 14 Oct 2021) EndedAt: 2021-10-14 10:14:06 -0400 (Thu, 14 Oct 2021) EllapsedTime: 90.1 seconds RetCode: 0 Status: OK