Package: GenomicInteractions Version: 1.26.0 Command: /Library/Frameworks/R.framework/Versions/Current/Resources/bin/R CMD build --keep-empty-dirs --no-resave-data GenomicInteractions StartedAt: 2021-10-14 12:16:10 -0400 (Thu, 14 Oct 2021) EndedAt: 2021-10-14 12:20:23 -0400 (Thu, 14 Oct 2021) EllapsedTime: 252.8 seconds RetCode: 0 Status: OK PackageFile: GenomicInteractions_1.26.0.tar.gz PackageFileSize: 3.41 MiB