Package: GenomicFiles Version: 1.28.0 Command: C:\cygwin\bin\curl.exe -O http://155.52.207.165/BBS/3.13/bioc/src/contrib/GenomicFiles_1.28.0.tar.gz && rm -rf GenomicFiles.buildbin-libdir && mkdir GenomicFiles.buildbin-libdir && C:\Users\biocbuild\bbs-3.13-bioc\R\bin\R.exe CMD INSTALL --merge-multiarch --build --library=GenomicFiles.buildbin-libdir GenomicFiles_1.28.0.tar.gz && C:\Users\biocbuild\bbs-3.13-bioc\R\bin\R.exe CMD INSTALL GenomicFiles_1.28.0.zip && rm GenomicFiles_1.28.0.tar.gz GenomicFiles_1.28.0.zip StartedAt: 2021-10-14 10:27:58 -0400 (Thu, 14 Oct 2021) EndedAt: 2021-10-14 10:29:21 -0400 (Thu, 14 Oct 2021) EllapsedTime: 82.9 seconds RetCode: 0 Status: OK