Package: GenomicFiles Version: 1.28.0 Command: C:\Users\biocbuild\bbs-3.13-bioc\R\bin\R.exe CMD check --force-multiarch --install=check:GenomicFiles.install-out.txt --library=C:\Users\biocbuild\bbs-3.13-bioc\R\library --no-vignettes --timings GenomicFiles_1.28.0.tar.gz StartedAt: 2021-10-14 23:36:28 -0400 (Thu, 14 Oct 2021) EndedAt: 2021-10-14 23:58:14 -0400 (Thu, 14 Oct 2021) EllapsedTime: 1306.1 seconds RetCode: 0 Status: OK CheckDir: GenomicFiles.Rcheck Warnings: 0