Package: GenomicFiles Version: 1.28.0 Command: chmod a+r GenomicFiles -R && C:\Users\biocbuild\bbs-3.13-bioc\R\bin\R.exe CMD build --keep-empty-dirs --no-resave-data GenomicFiles StartedAt: 2021-10-14 14:26:58 -0400 (Thu, 14 Oct 2021) EndedAt: 2021-10-14 14:30:44 -0400 (Thu, 14 Oct 2021) EllapsedTime: 226.4 seconds RetCode: 0 Status: OK PackageFile: GenomicFiles_1.28.0.tar.gz PackageFileSize: 668.8 KiB