Package: GenomicFiles Version: 1.28.0 Command: rm -rf GenomicFiles.buildbin-libdir && mkdir GenomicFiles.buildbin-libdir && C:\Users\biocbuild\bbs-3.13-bioc\R\bin\R.exe CMD INSTALL --merge-multiarch --build --library=GenomicFiles.buildbin-libdir GenomicFiles_1.28.0.tar.gz StartedAt: 2021-10-15 09:33:11 -0400 (Fri, 15 Oct 2021) EndedAt: 2021-10-15 09:34:44 -0400 (Fri, 15 Oct 2021) EllapsedTime: 93.0 seconds RetCode: 0 Status: OK PackageFile: GenomicFiles_1.28.0.zip PackageFileSize: 1.016 MiB