Package: GenomicFiles Version: 1.28.0 Command: rm -rf GenomicFiles.buildbin-libdir && mkdir GenomicFiles.buildbin-libdir && /Users/biocbuild/BBS/utils/build-universal.sh GenomicFiles_1.28.0.tar.gz /Library/Frameworks/R.framework/Versions/Current/Resources/bin/R GenomicFiles.buildbin-libdir StartedAt: 2021-10-15 02:33:28 -0400 (Fri, 15 Oct 2021) EndedAt: 2021-10-15 02:34:33 -0400 (Fri, 15 Oct 2021) EllapsedTime: 64.3 seconds RetCode: 0 Status: OK PackageFile: GenomicFiles_1.28.0.tgz PackageFileSize: 994.5 KiB