Package: GenomicDistributions Version: 1.0.0 Command: /Library/Frameworks/R.framework/Versions/Current/Resources/bin/R CMD build --keep-empty-dirs --no-resave-data GenomicDistributions StartedAt: 2021-10-14 12:15:55 -0400 (Thu, 14 Oct 2021) EndedAt: 2021-10-14 12:17:00 -0400 (Thu, 14 Oct 2021) EllapsedTime: 64.9 seconds RetCode: 0 Status: OK PackageFile: GenomicDistributions_1.0.0.tar.gz PackageFileSize: 4.491 MiB