Package: GeneticsPed Version: 1.54.0 Command: /Library/Frameworks/R.framework/Versions/Current/Resources/bin/R CMD check --install=check:GeneticsPed.install-out.txt --library=/Library/Frameworks/R.framework/Versions/Current/Resources/library --no-vignettes --timings GeneticsPed_1.54.0.tar.gz StartedAt: 2021-10-14 19:22:58 -0400 (Thu, 14 Oct 2021) EndedAt: 2021-10-14 19:23:44 -0400 (Thu, 14 Oct 2021) EllapsedTime: 46.1 seconds RetCode: 0 Status: OK CheckDir: GeneticsPed.Rcheck Warnings: 0