Package: GeneticsPed Version: 1.54.0 Command: /Library/Frameworks/R.framework/Versions/Current/Resources/bin/R CMD build --keep-empty-dirs --no-resave-data GeneticsPed StartedAt: 2021-10-14 12:14:48 -0400 (Thu, 14 Oct 2021) EndedAt: 2021-10-14 12:15:39 -0400 (Thu, 14 Oct 2021) EllapsedTime: 50.9 seconds RetCode: 0 Status: OK PackageFile: GeneticsPed_1.54.0.tar.gz PackageFileSize: 496 KiB