Package: GeneSelectMMD Version: 2.36.0 Command: /Library/Frameworks/R.framework/Versions/Current/Resources/bin/R CMD check --install=check:GeneSelectMMD.install-out.txt --library=/Library/Frameworks/R.framework/Versions/Current/Resources/library --no-vignettes --timings GeneSelectMMD_2.36.0.tar.gz StartedAt: 2021-10-14 19:22:36 -0400 (Thu, 14 Oct 2021) EndedAt: 2021-10-14 19:23:22 -0400 (Thu, 14 Oct 2021) EllapsedTime: 46.3 seconds RetCode: 0 Status: WARNINGS CheckDir: GeneSelectMMD.Rcheck Warnings: 1