Package: GeneSelectMMD Version: 2.36.0 Command: rm -rf GeneSelectMMD.buildbin-libdir && mkdir GeneSelectMMD.buildbin-libdir && /Users/biocbuild/BBS/utils/build-universal.sh GeneSelectMMD_2.36.0.tar.gz /Library/Frameworks/R.framework/Versions/Current/Resources/bin/R GeneSelectMMD.buildbin-libdir StartedAt: 2021-10-15 02:31:57 -0400 (Fri, 15 Oct 2021) EndedAt: 2021-10-15 02:33:01 -0400 (Fri, 15 Oct 2021) EllapsedTime: 64.2 seconds RetCode: 0 Status: OK PackageFile: GeneSelectMMD_2.36.0.tgz PackageFileSize: 453.8 KiB