git_url: https://git.bioconductor.org/packages/GeneNetworkBuilder git_branch: RELEASE_3_13 git_last_commit: 2e9cc20 git_last_commit_date: 2021-05-19 11:53:28 -0400 (Wed, 19 May 2021) Package: GeneNetworkBuilder Version: 1.34.0 Maintainer: Jianhong Ou MaintainerEmail: jianhong.ou at duke.edu