Package: GeneMeta Version: 1.64.0 Command: chmod a+r GeneMeta -R && C:\Users\biocbuild\bbs-3.13-bioc\R\bin\R.exe CMD build --keep-empty-dirs --no-resave-data GeneMeta StartedAt: 2021-10-14 14:23:06 -0400 (Thu, 14 Oct 2021) EndedAt: 2021-10-14 14:24:07 -0400 (Thu, 14 Oct 2021) EllapsedTime: 60.5 seconds RetCode: 0 Status: OK PackageFile: GeneMeta_1.64.0.tar.gz PackageFileSize: 2.615 MiB