Package: GeneGeneInteR Version: 1.18.0 Command: chmod a+r GeneGeneInteR -R && C:\Users\biocbuild\bbs-3.13-bioc\R\bin\R.exe CMD build --keep-empty-dirs --no-resave-data GeneGeneInteR StartedAt: 2021-10-14 14:22:57 -0400 (Thu, 14 Oct 2021) EndedAt: 2021-10-14 14:23:56 -0400 (Thu, 14 Oct 2021) EllapsedTime: 59.0 seconds RetCode: 0 Status: OK PackageFile: GeneGeneInteR_1.18.0.tar.gz PackageFileSize: 1.087 MiB