git_url: https://git.bioconductor.org/packages/GeneExpressionSignature git_branch: RELEASE_3_13 git_last_commit: ed0ab84 git_last_commit_date: 2021-05-19 11:49:38 -0400 (Wed, 19 May 2021) Package: GeneExpressionSignature Version: 1.38.0 Maintainer: Yang Cao MaintainerEmail: yiluheihei at gmail.com