Package: GeneBreak Version: 1.22.0 Command: C:\cygwin\bin\curl.exe -O http://155.52.207.165/BBS/3.13/bioc/src/contrib/GeneBreak_1.22.0.tar.gz && rm -rf GeneBreak.buildbin-libdir && mkdir GeneBreak.buildbin-libdir && C:\Users\biocbuild\bbs-3.13-bioc\R\bin\R.exe CMD INSTALL --merge-multiarch --build --library=GeneBreak.buildbin-libdir GeneBreak_1.22.0.tar.gz && C:\Users\biocbuild\bbs-3.13-bioc\R\bin\R.exe CMD INSTALL GeneBreak_1.22.0.zip && rm GeneBreak_1.22.0.tar.gz GeneBreak_1.22.0.zip StartedAt: 2021-10-14 08:54:16 -0400 (Thu, 14 Oct 2021) EndedAt: 2021-10-14 08:54:59 -0400 (Thu, 14 Oct 2021) EllapsedTime: 43.5 seconds RetCode: 0 Status: OK