git_url: https://git.bioconductor.org/packages/GeneBreak git_branch: RELEASE_3_13 git_last_commit: 4c84ab8 git_last_commit_date: 2021-05-19 12:16:21 -0400 (Wed, 19 May 2021) Package: GeneBreak Version: 1.22.0 Maintainer: Evert van den Broek MaintainerEmail: vandenbroek.evert at gmail.com