Package: GeneAccord Version: 1.10.0 Command: rm -rf GeneAccord.buildbin-libdir && mkdir GeneAccord.buildbin-libdir && /Users/biocbuild/BBS/utils/build-universal.sh GeneAccord_1.10.0.tar.gz /Library/Frameworks/R.framework/Versions/Current/Resources/bin/R GeneAccord.buildbin-libdir StartedAt: 2021-10-15 02:30:25 -0400 (Fri, 15 Oct 2021) EndedAt: 2021-10-15 02:31:29 -0400 (Fri, 15 Oct 2021) EllapsedTime: 64.1 seconds RetCode: 0 Status: OK PackageFile: GeneAccord_1.10.0.tgz PackageFileSize: 3.45 MiB