Package: GSVA Version: 1.40.1 Command: C:\cygwin\bin\curl.exe -O http://155.52.207.165/BBS/3.13/bioc/src/contrib/GSVA_1.40.1.tar.gz && rm -rf GSVA.buildbin-libdir && mkdir GSVA.buildbin-libdir && C:\Users\biocbuild\bbs-3.13-bioc\R\bin\R.exe CMD INSTALL --merge-multiarch --build --library=GSVA.buildbin-libdir GSVA_1.40.1.tar.gz && C:\Users\biocbuild\bbs-3.13-bioc\R\bin\R.exe CMD INSTALL GSVA_1.40.1.zip && rm GSVA_1.40.1.tar.gz GSVA_1.40.1.zip StartedAt: 2021-10-14 09:12:26 -0400 (Thu, 14 Oct 2021) EndedAt: 2021-10-14 09:15:48 -0400 (Thu, 14 Oct 2021) EllapsedTime: 202.9 seconds RetCode: 0 Status: OK