Package: GSVA Version: 1.40.1 Command: C:\Users\biocbuild\bbs-3.13-bioc\R\bin\R.exe CMD check --force-multiarch --install=check:GSVA.install-out.txt --library=C:\Users\biocbuild\bbs-3.13-bioc\R\library --no-vignettes --timings GSVA_1.40.1.tar.gz StartedAt: 2021-10-15 00:10:26 -0400 (Fri, 15 Oct 2021) EndedAt: 2021-10-15 00:17:50 -0400 (Fri, 15 Oct 2021) EllapsedTime: 443.7 seconds RetCode: 0 Status: OK CheckDir: GSVA.Rcheck Warnings: 0