Package: GSReg Version: 1.26.0 Command: /home/biocbuild/bbs-3.13-bioc/R/bin/R CMD build --keep-empty-dirs --no-resave-data GSReg StartedAt: 2021-10-14 07:25:43 -0400 (Thu, 14 Oct 2021) EndedAt: 2021-10-14 07:27:07 -0400 (Thu, 14 Oct 2021) EllapsedTime: 83.4 seconds RetCode: 0 Status: OK PackageFile: GSReg_1.26.0.tar.gz PackageFileSize: 489.2 KiB