git_url: https://git.bioconductor.org/packages/GSReg git_branch: RELEASE_3_13 git_last_commit: f0f3ac7 git_last_commit_date: 2021-05-19 12:06:07 -0400 (Wed, 19 May 2021) Package: GSReg Version: 1.26.0 Maintainer: Bahman Afsari , Elana J. Fertig MaintainerEmail: ejfertig at jhmi.edu