Package: GSRI Version: 2.40.0 Command: /home/biocbuild/bbs-3.13-bioc/R/bin/R CMD build --keep-empty-dirs --no-resave-data GSRI StartedAt: 2021-10-14 07:25:47 -0400 (Thu, 14 Oct 2021) EndedAt: 2021-10-14 07:26:27 -0400 (Thu, 14 Oct 2021) EllapsedTime: 40.1 seconds RetCode: 0 Status: OK PackageFile: GSRI_2.40.0.tar.gz PackageFileSize: 253.1 KiB