Package: GSRI Version: 2.40.0 Command: rm -rf GSRI.buildbin-libdir && mkdir GSRI.buildbin-libdir && /Users/biocbuild/BBS/utils/build-universal.sh GSRI_2.40.0.tar.gz /Library/Frameworks/R.framework/Versions/Current/Resources/bin/R GSRI.buildbin-libdir StartedAt: 2021-10-15 02:40:35 -0400 (Fri, 15 Oct 2021) EndedAt: 2021-10-15 02:41:40 -0400 (Fri, 15 Oct 2021) EllapsedTime: 65.2 seconds RetCode: 0 Status: OK PackageFile: GSRI_2.40.0.tgz PackageFileSize: 607.2 KiB