git_url: https://git.bioconductor.org/packages/GSRI git_branch: RELEASE_3_13 git_last_commit: 4bba992 git_last_commit_date: 2021-05-19 11:45:32 -0400 (Wed, 19 May 2021) Package: GSRI Version: 2.40.0 Maintainer: Julian Gehring MaintainerEmail: jg-bioc at gmx.com